BEGIN:VCALENDAR
VERSION:2.0
PRODID:-//Proviso Township Mental Health Commission - ECPv6.6.4//NONSGML v1.0//EN
CALSCALE:GREGORIAN
METHOD:PUBLISH
X-WR-CALNAME:Proviso Township Mental Health Commission
X-ORIGINAL-URL:https://ptmhc.org
X-WR-CALDESC:Events for Proviso Township Mental Health Commission
REFRESH-INTERVAL;VALUE=DURATION:PT1H
X-Robots-Tag:noindex
X-PUBLISHED-TTL:PT1H
BEGIN:VTIMEZONE
TZID:America/Chicago
BEGIN:DAYLIGHT
TZOFFSETFROM:-0600
TZOFFSETTO:-0500
TZNAME:CDT
DTSTART:20200308T080000
END:DAYLIGHT
BEGIN:STANDARD
TZOFFSETFROM:-0500
TZOFFSETTO:-0600
TZNAME:CST
DTSTART:20201101T070000
END:STANDARD
BEGIN:DAYLIGHT
TZOFFSETFROM:-0600
TZOFFSETTO:-0500
TZNAME:CDT
DTSTART:20210314T080000
END:DAYLIGHT
BEGIN:STANDARD
TZOFFSETFROM:-0500
TZOFFSETTO:-0600
TZNAME:CST
DTSTART:20211107T070000
END:STANDARD
END:VTIMEZONE
BEGIN:VEVENT
DTSTART;TZID=America/Chicago:20211202T140000
DTEND;TZID=America/Chicago:20211202T150000
DTSTAMP:20260422T092247
CREATED:20211202T194551Z
LAST-MODIFIED:20211206T200638Z
UID:2744-1638453600-1638457200@ptmhc.org
SUMMARY:Lifelong Learning: Landmark Supreme Court Cases of the Last 21 years – PART 2 – Q&A
DESCRIPTION:Thursday December 2 | 2:00-3:30pm | Lifelong Learning: Landmark Supreme Court Cases of the Last 21 years – PART 2 – Q&A \nNOTE: This is Part 2 of the Supreme Court program and will feature in depth responses to questions about the court cases covered in Part 1 (part 1 aired Nov 17).\nHow *exactly* did someone win the presidency by only 500 votes? Corporations can anonymously donate unlimited campaign money\, say what now? Can the government make you buy broccoli? Is it OK that some states have special voting laws applied only to them? On what basis is same-sex marriage legal nationwide? Learn about important topics the Supreme Court has taken up over the last 21 years.\nPresenter: Sharon McMahon\, Government\, and law educator\nClick this link to join: https://us02web.zoom.us/meeting/register/tZ0sf-qrqj0sGN36d_dXZ9E7W0jbs88Z7lw7\nPassword: awn123\nMeeting ID: 891 8334 6629
URL:https://ptmhc.org/event/sample-event-copy-6-copy-2-copy-copy-6/
LOCATION:Virtual Class or Event\, IL\, United States
CATEGORIES:Aging Care Connections Events,Virtual Classes
ORGANIZER;CN="Aging Care Connections":MAILTO:jwalch@agingcareconnections.org
END:VEVENT
BEGIN:VEVENT
DTSTART;TZID=America/Chicago:20211202T100000
DTEND;TZID=America/Chicago:20211202T110000
DTSTAMP:20260422T092247
CREATED:20211206T193828Z
LAST-MODIFIED:20211206T213858Z
UID:2736-1638439200-1638442800@ptmhc.org
SUMMARY:Understanding Diabetes
DESCRIPTION:Thursday December 2 | 10:00-11:00am | Understanding Diabetes \nWhat is Diabetes and what are its causes? Are there treatments and ways to prevent the disease? Learn the answers to these questions and more! Join us for this informative presentation from a diabetic and Nurse Joan who will explain signs and symptoms of diabetes; how to get tested; the parts of the body diabetes affects and if diabetes be cured.\nPresenter: Joan M. O’Brien\, RN\, MSN\, CDP® | Michael O’Brien Owners\, Independence-4-Seniors Home Care\nClick this link to join: https://us02web.zoom.us/meeting/register/tZUpc-CtrDwoH9IQfmwgDkgJ-XYRY_N7ljGp\nPassword: awn123\nMeeting ID: 814 4952 7256
URL:https://ptmhc.org/event/sample-event-copy-6-copy-2-copy-copy-5/
LOCATION:Virtual Class or Event\, IL\, United States
CATEGORIES:Aging Care Connections Events,Virtual Classes
ORGANIZER;CN="Aging Care Connections":MAILTO:jwalch@agingcareconnections.org
END:VEVENT
BEGIN:VEVENT
DTSTART;TZID=America/Chicago:20211201T101500
DTEND;TZID=America/Chicago:20211201T111500
DTSTAMP:20260422T092247
CREATED:20211206T185511Z
LAST-MODIFIED:20211206T213825Z
UID:2723-1638353700-1638357300@ptmhc.org
SUMMARY:Total Mind and Body Workout
DESCRIPTION:Wednesday December 1 | 10:15–11:15am | Total Mind and Body Workout  \nExercise has been shown to prevent disease\, lower the risk of falls\, improve mental health and cognitive function. Join us for this special series that is designed to take you through movements of different variations of walking and balance to improve your coordination (mind) and stability (body) as well as strengthen your upper and lower body and core. All movements and exercises help stimulate the brain to keep the mind and the body active. \nSupplies needed: A sturdy chair with no arm rests and no wheels. Please make sure your chair is on a flat and stable surface\, and there is space around you for the exercises \nInstructor: Brad LaRocque\, B.S | Fitness Manager | Loyola Center for Fitness \nClick this link to join: https://us02web.zoom.us/meeting/register/tZErcuiprTkvHdy3UCpiB75OatklRMUdYNxw  \nPassword: awn123Meeting ID: 856 5113 2578
URL:https://ptmhc.org/event/total-mind-and-body-workout/
LOCATION:Virtual Class or Event\, IL\, United States
CATEGORIES:Aging Care Connections Events,Virtual Classes
ORGANIZER;CN="Aging Care Connections":MAILTO:jwalch@agingcareconnections.org
END:VEVENT
BEGIN:VEVENT
DTSTART;TZID=America/Chicago:20200612T111500
DTEND;TZID=America/Chicago:20200612T121500
DTSTAMP:20260422T092247
CREATED:20200529T195001Z
LAST-MODIFIED:20200529T202311Z
UID:1110-1591960500-1591964100@ptmhc.org
SUMMARY:Aging Well Neighborhood Online Classes - Senior Strong Fitness
DESCRIPTION:Let us help you stay fit while you sit. This class brings sensible and functional fitness to seniors everywhere. Enjoy workouts from the comfort of your home with your friends and family. Contact AWN@agingcareconnections.org for more information and to obtain the participant link.
URL:https://ptmhc.org/event/aging-well-neighborhood-online-classes-senior-strong-fitness/
LOCATION:Virtual Class or Event\, IL\, United States
CATEGORIES:Aging Care Connections Events,Virtual Classes
ATTACH;FMTTYPE=image/png:https://ptmhc.org/wp-content/uploads/2020/04/ptmhc_agency_logos_350x1502.png
ORGANIZER;CN="Aging Care Connections":MAILTO:jwalch@agingcareconnections.org
END:VEVENT
BEGIN:VEVENT
DTSTART;TZID=America/Chicago:20200611T100000
DTEND;TZID=America/Chicago:20200611T111500
DTSTAMP:20260422T092247
CREATED:20200529T194806Z
LAST-MODIFIED:20200529T203734Z
UID:1108-1591869600-1591874100@ptmhc.org
SUMMARY:Aging Well Neighborhood Online Classes - TBA Seminar
DESCRIPTION:Contact AWN@agingcareconnections.org for more information and to obtain the participant link.
URL:https://ptmhc.org/event/aging-well-neighborhood-online-classes-tba-seminar/
LOCATION:Virtual Class or Event\, IL\, United States
CATEGORIES:Aging Care Connections Events,Virtual Classes
ATTACH;FMTTYPE=image/png:https://ptmhc.org/wp-content/uploads/2020/04/ptmhc_agency_logos_350x1502.png
ORGANIZER;CN="Aging Care Connections":MAILTO:jwalch@agingcareconnections.org
END:VEVENT
BEGIN:VEVENT
DTSTART;TZID=America/Chicago:20200610T140000
DTEND;TZID=America/Chicago:20200610T150000
DTSTAMP:20260422T092247
CREATED:20200529T194614Z
LAST-MODIFIED:20200529T203706Z
UID:1106-1591797600-1591801200@ptmhc.org
SUMMARY:Aging Well Neighborhood Online Classes - Wits Brain Health Series
DESCRIPTION:Wits Brain Health Series is Back! Contact AWN@agingcareconnections.org for more information and to obtain the participant link.
URL:https://ptmhc.org/event/aging-well-neighborhood-online-classes-wits-brain-health-series/
LOCATION:Virtual Class or Event\, IL\, United States
CATEGORIES:Aging Care Connections Events,Virtual Classes
ATTACH;FMTTYPE=image/png:https://ptmhc.org/wp-content/uploads/2020/04/ptmhc_agency_logos_350x1502.png
ORGANIZER;CN="Aging Care Connections":MAILTO:jwalch@agingcareconnections.org
END:VEVENT
BEGIN:VEVENT
DTSTART;TZID=America/Chicago:20200609T130000
DTEND;TZID=America/Chicago:20200609T140000
DTSTAMP:20260422T092247
CREATED:20200529T194118Z
LAST-MODIFIED:20200529T202421Z
UID:1100-1591707600-1591711200@ptmhc.org
SUMMARY:Aging Well Neighborhood Online Classes Fitness Class
DESCRIPTION:Contact AWN@agingcareconnections.org for more information and to obtain the participant link.
URL:https://ptmhc.org/event/aging-well-neighborhood-online-classes-fitness-class/
LOCATION:Virtual Class or Event\, IL\, United States
CATEGORIES:Aging Care Connections Events,Virtual Classes
ATTACH;FMTTYPE=image/png:https://ptmhc.org/wp-content/uploads/2020/04/ptmhc_agency_logos_350x1502.png
ORGANIZER;CN="Aging Care Connections":MAILTO:jwalch@agingcareconnections.org
END:VEVENT
END:VCALENDAR