BEGIN:VCALENDAR
VERSION:2.0
PRODID:-//Proviso Township Mental Health Commission - ECPv6.6.4//NONSGML v1.0//EN
CALSCALE:GREGORIAN
METHOD:PUBLISH
X-ORIGINAL-URL:https://ptmhc.org
X-WR-CALDESC:Events for Proviso Township Mental Health Commission
REFRESH-INTERVAL;VALUE=DURATION:PT1H
X-Robots-Tag:noindex
X-PUBLISHED-TTL:PT1H
BEGIN:VTIMEZONE
TZID:America/Chicago
BEGIN:DAYLIGHT
TZOFFSETFROM:-0600
TZOFFSETTO:-0500
TZNAME:CDT
DTSTART:20200308T080000
END:DAYLIGHT
BEGIN:STANDARD
TZOFFSETFROM:-0500
TZOFFSETTO:-0600
TZNAME:CST
DTSTART:20201101T070000
END:STANDARD
END:VTIMEZONE
BEGIN:VEVENT
DTSTART;TZID=America/Chicago:20200619T170000
DTEND;TZID=America/Chicago:20200619T200000
DTSTAMP:20260424T063812
CREATED:20200529T195757Z
LAST-MODIFIED:20200529T202837Z
UID:1112-1592586000-1592596800@ptmhc.org
SUMMARY:Amita Health Rock the Boat
DESCRIPTION:Join us at the Columbia Yacht Club in Chicago for our annual Rock the Boat event (this event is tentative). Presented by the AMITA Health Chicago Metro Ambassador Board. \nFor questions or to reserve your sponsorship\, please contact: \nJulie Baker\, Director of Events\nJulie.Baker@AMITAhealth.org\n224.273.4106 \nWe continue to evaluate our events schedule and plans in keeping with state and federal guidelines around COVID-19. We look forward to the opportunity to spend time together with you again when the time is right\, and will confirm our plans and dates as soon as possible. Thank you for your understanding!
URL:https://ptmhc.org/event/amita-health-rock-the-boat/
LOCATION:Columbia Yacht Club\, 111 N. Lake Shore Drive\, Chicago\, IL\, 60601\, United States
CATEGORIES:Amita Health Events
END:VEVENT
END:VCALENDAR