BEGIN:VCALENDAR
VERSION:2.0
PRODID:-//Proviso Township Mental Health Commission - ECPv6.6.4//NONSGML v1.0//EN
CALSCALE:GREGORIAN
METHOD:PUBLISH
X-ORIGINAL-URL:https://ptmhc.org
X-WR-CALDESC:Events for Proviso Township Mental Health Commission
REFRESH-INTERVAL;VALUE=DURATION:PT1H
X-Robots-Tag:noindex
X-PUBLISHED-TTL:PT1H
BEGIN:VTIMEZONE
TZID:America/Chicago
BEGIN:DAYLIGHT
TZOFFSETFROM:-0600
TZOFFSETTO:-0500
TZNAME:CDT
DTSTART:20210314T080000
END:DAYLIGHT
BEGIN:STANDARD
TZOFFSETFROM:-0500
TZOFFSETTO:-0600
TZNAME:CST
DTSTART:20211107T070000
END:STANDARD
END:VTIMEZONE
BEGIN:VEVENT
DTSTART;TZID=America/Chicago:20211216T183000
DTEND;TZID=America/Chicago:20211216T183000
DTSTAMP:20260422T063746
CREATED:20211206T212202Z
LAST-MODIFIED:20211206T214229Z
UID:2794-1639679400-1639679400@ptmhc.org
SUMMARY:Holiday Cookie & Book Exchange at LT High School
DESCRIPTION:Thursday December 16  | 6:30pm | Holiday Cookie & Book Exchange at LT High School   \nBring some holiday cookies to share and your favorite book to join in a book exchange. We hope you can join us for this fun filled evening of sweet treats and sharing! Note: Masks are required. \nThis program is being offered by the Lyons Township High School Older Adult Connections Club. Aging Care Connections is collaborating with a new student-led club at Lyons Township High School called Older Adult Connections. The purpose of this partnership is to bring together different generations in ongoing and mutually beneficial activities such as mentoring\, knowledge-sharing\, and volunteerism. Lyons Township High School students and older adults from the Aging Care Connections community will share their talents and resources\, supporting each other in relationships\, which benefit the individuals and the community. \nFor more information or to RSVP\, email mdahl@lths.net at LT High School. Please RSVP to LTHS by December 14th by emailing mdahl@lths.net \nLocation: Lyons Township High School North Campus—Room 102. 100 S. Brainard Ave\, La Grange. Accessible parking lot about half a block from the building.
URL:https://ptmhc.org/event/holiday-cookie-book-exchange-at-lt-high-school/
LOCATION:Lyons Township High School North Campus\, Room 102. 100 S. Brainard Ave\, La Grange\, IL\, United States
CATEGORIES:Aging Care Connections Events,LT High School
ORGANIZER;CN="Aging Care Connections":MAILTO:jwalch@agingcareconnections.org
END:VEVENT
END:VCALENDAR