BEGIN:VCALENDAR
VERSION:2.0
PRODID:-//Proviso Township Mental Health Commission - ECPv6.6.4//NONSGML v1.0//EN
CALSCALE:GREGORIAN
METHOD:PUBLISH
X-WR-CALNAME:Proviso Township Mental Health Commission
X-ORIGINAL-URL:https://ptmhc.org
X-WR-CALDESC:Events for Proviso Township Mental Health Commission
REFRESH-INTERVAL;VALUE=DURATION:PT1H
X-Robots-Tag:noindex
X-PUBLISHED-TTL:PT1H
BEGIN:VTIMEZONE
TZID:America/Chicago
BEGIN:DAYLIGHT
TZOFFSETFROM:-0600
TZOFFSETTO:-0500
TZNAME:CDT
DTSTART:20230312T080000
END:DAYLIGHT
BEGIN:STANDARD
TZOFFSETFROM:-0500
TZOFFSETTO:-0600
TZNAME:CST
DTSTART:20231105T070000
END:STANDARD
END:VTIMEZONE
BEGIN:VEVENT
DTSTART;TZID=America/Chicago:20231110T100000
DTEND;TZID=America/Chicago:20231110T130000
DTSTAMP:20260420T013524
CREATED:20231103T150919Z
LAST-MODIFIED:20240418T143634Z
UID:3696-1699610400-1699621200@ptmhc.org
SUMMARY:Sample Event  Copy
DESCRIPTION:click here for more information: \nFREE COMMUNITY EVENT
URL:https://ptmhc.org/event/sample-event-copy-6-copy-2-copy-copy-28/
LOCATION:Riveredge Hospital\, 8311 W. Roosevelt Road\, Forest Park\, 60130
CATEGORIES:Mental Health Expo/ Fair
ATTACH;FMTTYPE=image/png:https://ptmhc.org/wp-content/uploads/2023/11/riveredge-hospital-fair.png
END:VEVENT
BEGIN:VEVENT
DTSTART;TZID=America/Chicago:20230729T150000
DTEND;TZID=America/Chicago:20230729T210000
DTSTAMP:20260420T013524
CREATED:20230713T171103Z
LAST-MODIFIED:20230713T171933Z
UID:3641-1690642800-1690664400@ptmhc.org
SUMMARY:Maywood Inspire Celebration 2023
DESCRIPTION:Join Us for Community Fun Family Food\n 
URL:https://ptmhc.org/event/sample-event-copy-6-copy-2-copy-copy-27/
LOCATION:Maywood Park District\, 921 S. 9th Avenue\, Maywood\, IL\, 60153\, United States
CATEGORIES:Mental Health Expo/ Fair
ATTACH;FMTTYPE=image/jpeg:https://ptmhc.org/wp-content/uploads/2023/07/Maywood-Inspire-Celebration-2023-e1689268080711.jpg
ORGANIZER;CN="Village of Maywood":MAILTO:https://www.maywood-il.org/
END:VEVENT
END:VCALENDAR