BEGIN:VCALENDAR
VERSION:2.0
PRODID:-//Proviso Township Mental Health Commission - ECPv6.6.4//NONSGML v1.0//EN
CALSCALE:GREGORIAN
METHOD:PUBLISH
X-WR-CALNAME:Proviso Township Mental Health Commission
X-ORIGINAL-URL:https://ptmhc.org
X-WR-CALDESC:Events for Proviso Township Mental Health Commission
REFRESH-INTERVAL;VALUE=DURATION:PT1H
X-Robots-Tag:noindex
X-PUBLISHED-TTL:PT1H
BEGIN:VTIMEZONE
TZID:America/Chicago
BEGIN:DAYLIGHT
TZOFFSETFROM:-0600
TZOFFSETTO:-0500
TZNAME:CDT
DTSTART:20250309T080000
END:DAYLIGHT
BEGIN:STANDARD
TZOFFSETFROM:-0500
TZOFFSETTO:-0600
TZNAME:CST
DTSTART:20251102T070000
END:STANDARD
END:VTIMEZONE
BEGIN:VEVENT
DTSTART;TZID=America/Chicago:20250529T100000
DTEND;TZID=America/Chicago:20250529T193000
DTSTAMP:20260425T192511
CREATED:20250206T203629Z
LAST-MODIFIED:20250206T204104Z
UID:4176-1748512800-1748547000@ptmhc.org
SUMMARY:Healthcare Alternative Systems - Celebrating 50 Years of Community Counseling & Treatment
DESCRIPTION:For more information click here \n\n\n\n\n\n\n\n\n\n\n\nAbout Healthcare Alternative Systems\, Inc.\n\nEducating Communities\nH.A.S. strives to bring individual and community based program initiatives together to promote stronger\, healthier and family-friendly communities.\n\n\n\n\n\n\n\n\n\nPrograms for Youth\nYouth programming at H.A.S. provides healthy alternatives to risky behaviors\, instilling the life skills youth need to become productive\, well-adjusted adults. \n\n\n\nPrograms for Women\nH.A.S. provides bilingual and culturally-sensitive programs addressing issues from substance to emotional abuse designed to meet the unique needs of women. \n\n\n\nPrograms for Men\nH.A.S. provides programs for English and Spanish speaking men in recovery that provide them with the tools to transition to substance-free self-sufficiency. \n\n\n\n\n\n\n\nYour contribution to Golf Fore Recovery will be applied in its entirety to prevention and treatment programs at H.A.S. \n\n\n\n\n\n\n\n\n\n\n\n\n  \n\n\n\n\n\n\n\n\n\n\nJoin our Mailing List\n\n\n\n\nConnect with Us\n\n\n\n\n\n\n\nHeadquarters // West\n4734 W. Chicago Ave.\nChicago\, IL 60651 \nPhone:(312) 850-0050 \nSend a Message \n\n\n\n\nPrograms\n\n\n\n\n\n\n\n\nSubstance Use\nMental Health\nDomestic Violence\nAnger Management\nResidential Programs\nCommunity Services
URL:https://ptmhc.org/event/sample-event-copy-6-copy-2-copy-copy-22-copy/
LOCATION:Venue West\, 221 N Paulina Street\, Chicago\, Illinois\, 60612\, United States
CATEGORIES:Fundraiser
ATTACH;FMTTYPE=image/jpeg:https://ptmhc.org/wp-content/uploads/2025/02/HAS-5-29-2025-.jpg
END:VEVENT
BEGIN:VEVENT
DTSTART;VALUE=DATE:20250728
DTEND;VALUE=DATE:20250729
DTSTAMP:20260425T192511
CREATED:20250206T204241Z
LAST-MODIFIED:20250206T204510Z
UID:4181-1753660800-1753747199@ptmhc.org
SUMMARY:Proviso Public Partnership - Annual Golf Outing
DESCRIPTION:SAVE THE DATE!  July\, 28th 2025 \nProviso Public Partnership to host their Annual Golf Outing at La Grange Country Club \nFormal Invitations to follow \nCall Kate for any questions 708-240-4435
URL:https://ptmhc.org/event/sample-event-copy-6-copy-2-copy-copy-11-copy/
LOCATION:La Grange Country Club\, 620 S. Brainard Street\, La Grange\, IL\, 60525\, United States
CATEGORIES:Fundraiser
ATTACH;FMTTYPE=image/jpeg:https://ptmhc.org/wp-content/uploads/2025/02/2025-Save-the-date-PPP.jpg
ORGANIZER;CN="Proviso Public Partnership":MAILTO:kwilliams@pppnfp.org
END:VEVENT
BEGIN:VEVENT
DTSTART;TZID=America/Chicago:20250919T180000
DTEND;TZID=America/Chicago:20250919T220000
DTSTAMP:20260425T192511
CREATED:20250206T204713Z
LAST-MODIFIED:20250206T205049Z
UID:4184-1758304800-1758319200@ptmhc.org
SUMMARY:Way Back Inn - SAVE THE DATE! Rebuilders Celebration
DESCRIPTION:Way Back Inn – SAVE THE DATE\nHonoring Grace B. Hou\nClick Here\n 
URL:https://ptmhc.org/event/way-back-inn-rebuilders-celebration-2023-copy-2/
LOCATION:TBA
CATEGORIES:Fundraiser
ATTACH;FMTTYPE=image/jpeg:https://ptmhc.org/wp-content/uploads/2025/02/WBI-Sept-19-2025-Save-the-Date.jpg
ORGANIZER;CN="The Way Back Inn":MAILTO:wbi@waybackinn.org
END:VEVENT
END:VCALENDAR