BEGIN:VCALENDAR
VERSION:2.0
PRODID:-//Proviso Township Mental Health Commission - ECPv6.6.4//NONSGML v1.0//EN
CALSCALE:GREGORIAN
METHOD:PUBLISH
X-WR-CALNAME:Proviso Township Mental Health Commission
X-ORIGINAL-URL:https://ptmhc.org
X-WR-CALDESC:Events for Proviso Township Mental Health Commission
REFRESH-INTERVAL;VALUE=DURATION:PT1H
X-Robots-Tag:noindex
X-PUBLISHED-TTL:PT1H
BEGIN:VTIMEZONE
TZID:America/Chicago
BEGIN:DAYLIGHT
TZOFFSETFROM:-0600
TZOFFSETTO:-0500
TZNAME:CDT
DTSTART:20220313T080000
END:DAYLIGHT
BEGIN:STANDARD
TZOFFSETFROM:-0500
TZOFFSETTO:-0600
TZNAME:CST
DTSTART:20221106T070000
END:STANDARD
BEGIN:DAYLIGHT
TZOFFSETFROM:-0600
TZOFFSETTO:-0500
TZNAME:CDT
DTSTART:20230312T080000
END:DAYLIGHT
BEGIN:STANDARD
TZOFFSETFROM:-0500
TZOFFSETTO:-0600
TZNAME:CST
DTSTART:20231105T070000
END:STANDARD
BEGIN:DAYLIGHT
TZOFFSETFROM:-0600
TZOFFSETTO:-0500
TZNAME:CDT
DTSTART:20240310T080000
END:DAYLIGHT
BEGIN:STANDARD
TZOFFSETFROM:-0500
TZOFFSETTO:-0600
TZNAME:CST
DTSTART:20241103T070000
END:STANDARD
END:VTIMEZONE
BEGIN:VEVENT
DTSTART;TZID=America/Chicago:20240316T180000
DTEND;TZID=America/Chicago:20240316T220000
DTSTAMP:20260420T010952
CREATED:20240119T194704Z
LAST-MODIFIED:20240119T195758Z
UID:3763-1710612000-1710626400@ptmhc.org
SUMMARY:Long Live - Big City Night 24'
DESCRIPTION:Click here for informantion
URL:https://ptmhc.org/event/sample-event-copy-6-copy-2-copy-copy-30/
LOCATION:Morgan Manufactoring\, 401 North Morgan Street\, Chicago\, IL
CATEGORIES:Fundraiser
ATTACH;FMTTYPE=image/jpeg:https://ptmhc.org/wp-content/uploads/2024/01/Long-Live-big-city-night-03.16.2024-Aspire.jpg
END:VEVENT
BEGIN:VEVENT
DTSTART;TZID=America/Chicago:20240309T180000
DTEND;TZID=America/Chicago:20240309T220000
DTSTAMP:20260420T010952
CREATED:20240202T203224Z
LAST-MODIFIED:20240202T203533Z
UID:3813-1710007200-1710021600@ptmhc.org
SUMMARY:The Big Event - UCP Seguin
DESCRIPTION:
URL:https://ptmhc.org/event/sample-event-copy-6-copy-2-copy-copy-33/
LOCATION:Bridegeport Art Center\, 1200 W. 35th Street\, Chicago\, IL\, 60609\, United States
CATEGORIES:UCP Seguin Events
ATTACH;FMTTYPE=image/jpeg:https://ptmhc.org/wp-content/uploads/2024/02/UCP-Seguin-03.09.24-The-Big-City-.jpg
ORGANIZER;CN="UCP Seguin":MAILTO:info@seguin.org
END:VEVENT
BEGIN:VEVENT
DTSTART;TZID=America/Chicago:20240209T180000
DTEND;TZID=America/Chicago:20240209T220000
DTSTAMP:20260420T010952
CREATED:20240109T060029Z
LAST-MODIFIED:20240109T195608Z
UID:3734-1707501600-1707516000@ptmhc.org
SUMMARY:All in for PCH
DESCRIPTION:All IN FOR PCH\n\n\n\n\n\n Get ready to go “All In for PCH” – we can’t wait to see you there! \n click here 
URL:https://ptmhc.org/event/3734/
LOCATION:Private: Chicago Marriott Southwest in Burr Ridge\, Burr Ridge
CATEGORIES:Fundraiser
ATTACH;FMTTYPE=image/jpeg:https://ptmhc.org/wp-content/uploads/2024/01/PCH-02.09.2024.jpg
END:VEVENT
BEGIN:VEVENT
DTSTART;TZID=America/Chicago:20240118T190000
DTEND;TZID=America/Chicago:20240118T223000
DTSTAMP:20260420T010952
CREATED:20240119T193906Z
LAST-MODIFIED:20240119T194622Z
UID:3759-1705604400-1705617000@ptmhc.org
SUMMARY:Buckle Down Brewing
DESCRIPTION:
URL:https://ptmhc.org/event/sample-event-copy-6-copy-2-copy-copy-29/
LOCATION:Private: Buckle Down\, 8700 47th Street\, Lyons\, IL\, 60534
ATTACH;FMTTYPE=image/jpeg:https://ptmhc.org/wp-content/uploads/2024/01/UCP-Seguin-1.18.2024.jpg
ORGANIZER;CN="UCP Seguin":MAILTO:info@seguin.org
END:VEVENT
BEGIN:VEVENT
DTSTART;TZID=America/Chicago:20231110T100000
DTEND;TZID=America/Chicago:20231110T130000
DTSTAMP:20260420T010952
CREATED:20231103T150919Z
LAST-MODIFIED:20240418T143634Z
UID:3696-1699610400-1699621200@ptmhc.org
SUMMARY:Sample Event  Copy
DESCRIPTION:click here for more information: \nFREE COMMUNITY EVENT
URL:https://ptmhc.org/event/sample-event-copy-6-copy-2-copy-copy-28/
LOCATION:Riveredge Hospital\, 8311 W. Roosevelt Road\, Forest Park\, 60130
CATEGORIES:Mental Health Expo/ Fair
ATTACH;FMTTYPE=image/png:https://ptmhc.org/wp-content/uploads/2023/11/riveredge-hospital-fair.png
END:VEVENT
BEGIN:VEVENT
DTSTART;TZID=America/Chicago:20230929T180000
DTEND;TZID=America/Chicago:20230929T220000
DTSTAMP:20260420T010952
CREATED:20230712T170451Z
LAST-MODIFIED:20230712T170703Z
UID:3632-1696010400-1696024800@ptmhc.org
SUMMARY:GAME ON!
DESCRIPTION:
URL:https://ptmhc.org/event/game-on/
LOCATION:Holiday Inn Countryside\, 6201 Joliet Road\, Countryside\, IL\, 60525\, United States
CATEGORIES:Fundraiser
ATTACH;FMTTYPE=image/jpeg:https://ptmhc.org/wp-content/uploads/2023/07/icp-flyer-2023-game-on.jpg
ORGANIZER;CN="Interfaith Community Partners":MAILTO:interfaithcommunitypartners@gmail.com
END:VEVENT
BEGIN:VEVENT
DTSTART;TZID=America/Chicago:20230915T180000
DTEND;TZID=America/Chicago:20230915T220000
DTSTAMP:20260420T010952
CREATED:20230712T164739Z
LAST-MODIFIED:20230712T164928Z
UID:3624-1694800800-1694815200@ptmhc.org
SUMMARY:Sports Ball 2023 by Aging Care Connections
DESCRIPTION:Tickets go on sale on August 1\, 2023. Look for more information to come on\nAging Care Connections social media and email.\nInterested in sponsoring this exciting event?\nContact Jan Walch\, Director of Philanthropy & External Affairs\n​p: 708-603-2243 / e: jwalch@agingcareconnections.org\n\n\n\n\n\n\n\n\n\n\n© 2022 AGING CARE CONNECTIONS\n\n\n\n\n\n\n\nHOME\nABOUT US\nPROGRAMS\nEVENTS\nGET INVOLVED\n​CONTACT\nPrivacy Policy\n\n\n\n\n\n\n\n\n​Connect With Us: \nSign Up For Our Email List\n\n\n\n\n\n\nOur Address:\n111 West Harris Avenue\nLa Grange\, Illinois 60525\nGet Directions \nCall us: \n(708) 354-1323 \n​Email us: \ninfo@agingcareconnections.org \nHours:\n​Monday-Friday\n​8:30am-4:30pm\n(flexible hours by appointment)\nAdult Protective Services:\nLocal: (708) 354-1323\nAfter Hours: (866) 800-1409
URL:https://ptmhc.org/event/sports-ball-2023-by-aging-care-connections/
LOCATION:Harry Caray’s  Italian Steakhouse at Westin Hotel\, 70 Yorktown Center\, Lombard\, IL\, 60148
CATEGORIES:Fundraiser
ATTACH;FMTTYPE=image/jpeg:https://ptmhc.org/wp-content/uploads/2023/07/ACC-Sports-Ball-2023.jpg
ORGANIZER;CN="Aging Care Connections":MAILTO:jwalch@agingcareconnections.org
END:VEVENT
BEGIN:VEVENT
DTSTART;VALUE=DATE:20230831
DTEND;VALUE=DATE:20230901
DTSTAMP:20260420T010952
CREATED:20230712T163222Z
LAST-MODIFIED:20230712T164304Z
UID:3617-1693440000-1693526399@ptmhc.org
SUMMARY:C. I. A.C. O. - Annual Golf Outing
DESCRIPTION:E-mail Peter Turano at golfouting@ciaco.org for more information
URL:https://ptmhc.org/event/sample-event-copy-6-copy-2-copy-copy-26/
LOCATION:Bloomingdale Golf Club
CATEGORIES:Fundraiser
ATTACH;FMTTYPE=image/jpeg:https://ptmhc.org/wp-content/uploads/2023/07/CIACO-flyer-2023.jpg
ORGANIZER;CN="C. I. A. C. O.":MAILTO:golfouting@ciaco.org
END:VEVENT
BEGIN:VEVENT
DTSTART;TZID=America/Chicago:20230828T100000
DTEND;TZID=America/Chicago:20230828T180000
DTSTAMP:20260420T010952
CREATED:20230712T161728Z
LAST-MODIFIED:20230712T163157Z
UID:3611-1693216800-1693245600@ptmhc.org
SUMMARY:UCP Seguin - Golf Outing 2023
DESCRIPTION:Life Without Limits Classic
URL:https://ptmhc.org/event/sample-event-copy-6-copy-2-copy-copy-25/
LOCATION:Riverside Golf Club\, 2520 South Des Plaines Avenue\, North Riverside\, 60546
CATEGORIES:Fundraiser
ATTACH;FMTTYPE=image/png:https://ptmhc.org/wp-content/uploads/2023/07/UCP-Seguin-Flyer-2023.png
ORGANIZER;CN="UCP Seguin":MAILTO:info@seguin.org
END:VEVENT
BEGIN:VEVENT
DTSTART;TZID=America/Chicago:20230729T150000
DTEND;TZID=America/Chicago:20230729T210000
DTSTAMP:20260420T010952
CREATED:20230713T171103Z
LAST-MODIFIED:20230713T171933Z
UID:3641-1690642800-1690664400@ptmhc.org
SUMMARY:Maywood Inspire Celebration 2023
DESCRIPTION:Join Us for Community Fun Family Food\n 
URL:https://ptmhc.org/event/sample-event-copy-6-copy-2-copy-copy-27/
LOCATION:Maywood Park District\, 921 S. 9th Avenue\, Maywood\, IL\, 60153\, United States
CATEGORIES:Mental Health Expo/ Fair
ATTACH;FMTTYPE=image/jpeg:https://ptmhc.org/wp-content/uploads/2023/07/Maywood-Inspire-Celebration-2023-e1689268080711.jpg
ORGANIZER;CN="Village of Maywood":MAILTO:https://www.maywood-il.org/
END:VEVENT
BEGIN:VEVENT
DTSTART;TZID=America/Chicago:20230726T100000
DTEND;TZID=America/Chicago:20230726T140000
DTSTAMP:20260420T010952
CREATED:20230712T155406Z
LAST-MODIFIED:20230712T161510Z
UID:3601-1690365600-1690380000@ptmhc.org
SUMMARY:PLCCA - DAY OF ACTION
DESCRIPTION:PLCCA\nDay of Action
URL:https://ptmhc.org/event/sample-event-copy-6-copy-2-copy-copy-24/
LOCATION:Proviso Baptist Church Fellowship Hall\, 1116 S. 5th Avenue\, Maywood\, IL\, 60153\, United States
ATTACH;FMTTYPE=image/jpeg:https://ptmhc.org/wp-content/uploads/2023/07/PLCCA-7-26-2023-e1689176068355.jpg
END:VEVENT
BEGIN:VEVENT
DTSTART;TZID=America/Chicago:20230720T133000
DTEND;TZID=America/Chicago:20230720T153000
DTSTAMP:20260420T010952
CREATED:20230712T154354Z
LAST-MODIFIED:20230712T155340Z
UID:3596-1689859800-1689867000@ptmhc.org
SUMMARY:Elvis!
DESCRIPTION:Aging Care Connections\nCongregate Meals Presents\nElvis!\n  \n 
URL:https://ptmhc.org/event/sample-event-copy-6-copy-2-copy-copy-23/
LOCATION:Salernos Pizzeria\, 9301 W. 63rd St.\, Hodgkins\,\, IL\, 60525\, United States
CATEGORIES:Fundraiser
ATTACH;FMTTYPE=image/jpeg:https://ptmhc.org/wp-content/uploads/2023/07/ACC-ELVIS-2023--e1689176036741.jpg
ORGANIZER;CN="Aging Care Connections":MAILTO:jwalch@agingcareconnections.org
END:VEVENT
BEGIN:VEVENT
DTSTART;TZID=America/Chicago:20230520T180000
DTEND;TZID=America/Chicago:20230520T180000
DTSTAMP:20260420T010952
CREATED:20230125T181524Z
LAST-MODIFIED:20230125T182115Z
UID:3386-1684605600-1684605600@ptmhc.org
SUMMARY:NAMI - 30th Anniversary Gala
DESCRIPTION:30th Anniversary Gala: Celebrating Hope Together\n\n\n\n\nPlace: The Drake\, Oak Brook\, IL \nDate: May 20\, 2023\, 6 P.M. \nInterested in becoming a sponsor? Click here to view our Sponsorship Guide.
URL:https://ptmhc.org/event/namimay20oakbrook/
LOCATION:The Drake Autograph Collection\, 2301 York Road\, Oak Brook\, IL\, 60162\, United States
CATEGORIES:Fundraiser
ATTACH;FMTTYPE=image/jpeg:https://ptmhc.org/wp-content/uploads/2023/01/NAMI.jpg
ORGANIZER;CN="NAMI":MAILTO:info@namimetsub.org
END:VEVENT
BEGIN:VEVENT
DTSTART;TZID=America/Chicago:20230513T180000
DTEND;TZID=America/Chicago:20230513T180000
DTSTAMP:20260420T010952
CREATED:20230307T182042Z
LAST-MODIFIED:20230307T184809Z
UID:3435-1684000800-1684000800@ptmhc.org
SUMMARY:Housing Forward - Have a Heart
DESCRIPTION:Get ready for the 25th Annual Have a Heart Gala! This page will be updated as information is confirmed\, so check back regularly. To see photos from last year\, check out the bottom of last year’s event page here. For any questions\, please contact Sarah Catalano\, Events & Engagement Manager\, at scatalano@housingforward.org. \nFor more information: Click Here
URL:https://ptmhc.org/event/sample-event-copy-6-copy-2-copy-copy-18/
LOCATION:The Geraghty\, 2520 S Hoyne Ave\, Chicago\, IL\, 60608\, United States
CATEGORIES:Fundraiser
ATTACH;FMTTYPE=image/jpeg:https://ptmhc.org/wp-content/uploads/2023/03/Housing-Forward-5.1323.jpg
END:VEVENT
BEGIN:VEVENT
DTSTART;TZID=America/Chicago:20230415T180000
DTEND;TZID=America/Chicago:20230415T220000
DTSTAMP:20260420T010952
CREATED:20230307T182038Z
LAST-MODIFIED:20230307T183006Z
UID:3434-1681581600-1681596000@ptmhc.org
SUMMARY:UCP Sequin - THE BIG EVENT
DESCRIPTION:For more information: Click here \nSee what is in the cards for the future of UCP Seguin!\nTry your luck at the gaming tables or the silent auction and raffle while enjoying cocktails and hors d’oeuvres. \nJoin us in recognizing the incredible people that we serve and the dedicated teams who work side by side with us to create life without limits for people with disabilities.
URL:https://ptmhc.org/event/sample-event-copy-6-copy-2-copy-copy-17/
LOCATION:Bridegeport Art Center\, 1200 W. 35th Street\, Chicago\, IL\, 60609\, United States
CATEGORIES:UCP Seguin Events
ATTACH;FMTTYPE=image/jpeg:https://ptmhc.org/wp-content/uploads/2023/03/UCP-Seguin-4.1523.jpg
ORGANIZER;CN="UCP Seguin":MAILTO:info@seguin.org
END:VEVENT
BEGIN:VEVENT
DTSTART;TZID=America/Chicago:20230414T180000
DTEND;TZID=America/Chicago:20230414T210000
DTSTAMP:20260420T010952
CREATED:20230307T181212Z
LAST-MODIFIED:20230307T183757Z
UID:3431-1681495200-1681506000@ptmhc.org
SUMMARY:CSS - Circles of Support
DESCRIPTION:For more information: click here \n 
URL:https://ptmhc.org/event/sample-event-copy-6-copy-2-copy-copy-16/
LOCATION:The Hyatt Lodge\, 2815 Jorie Blvd\, Oak Brook\, IL\, 60523
CATEGORIES:CSS Events,Fundraiser
ATTACH;FMTTYPE=image/jpeg:https://ptmhc.org/wp-content/uploads/2023/03/CSS-4.1523-.jpg
END:VEVENT
BEGIN:VEVENT
DTSTART;TZID=America/Chicago:20230316T020000
DTEND;TZID=America/Chicago:20230316T143000
DTSTAMP:20260420T010952
CREATED:20230217T163008Z
LAST-MODIFIED:20230217T183713Z
UID:3402-1678932000-1678977000@ptmhc.org
SUMMARY:Free CPR and Opioid Overdose Training
DESCRIPTION:Free CPR and Opioid Overdose Training\nHILLSIDE\, Illinois – Service providers and residents in Proviso Township now can receive basic CPR and opioid overdose training through free classes being offered by the Proviso Township Mental Health Commission (PTMHC). The training and supplies are made possible through a grant from the American Heart Association. \n“Learning CPR can quite literally save a life\,” said PTMHC CPR instructor Katherine Krych. “This is a skill that we want people in the community to have.” \nKrych pointed to NFL player Damar Hamlin who went into cardiac arrest during a football game this month. Medical professionals said that immediate CPR administered to Hamlin saved his life. \nThe CPR training will be held on March 16th with class 2pm. Interested participants need to RSVP by February 28th. Participants in the free classes will also learn how to assess and assist a person with a possible opioid overdose. Additionally\, they will be taught how to administer overdose medication and learn where they can obtain overdose medication. Participants should dress comfortably for the training which will be held at 4565 Harrison St. Hillside IL 60162 in the first floor Town Hall room. \nThe training has been provided to dozens of people in Proviso Township already\, including some students at Proviso Math and Science Academy. All participants receive a certification of completion as well as the knowledge that they can save a life. Participants will also learn how to use a defibrillator. \nTraining supplies will be provided by the PPP and PTMHC. Participants will learn CPR on their own mannequin which they can take home to practice with. Trainings last between 30 minutes and an hour depending on the size of the class. \nInterested groups can call or email Katherine Krych at 708-449-5508 or kkrych@ptmhc.org.
URL:https://ptmhc.org/event/sample-event-copy-6-copy-2-copy-copy-15/
LOCATION:The Geraghty\, 2520 S Hoyne Ave\, Chicago\, IL\, 60608\, United States
ATTACH;FMTTYPE=image/jpeg:https://ptmhc.org/wp-content/uploads/2023/01/cpr2-scaled.jpg
END:VEVENT
BEGIN:VEVENT
DTSTART;TZID=America/Chicago:20230311T170000
DTEND;TZID=America/Chicago:20230311T230000
DTSTAMP:20260420T010952
CREATED:20221214T171355Z
LAST-MODIFIED:20221229T150044Z
UID:3290-1678554000-1678575600@ptmhc.org
SUMMARY:Aspire - Marvelous 2023 Big City Night
DESCRIPTION:For more information click here: MARVELous \n 
URL:https://ptmhc.org/event/aspire31123marvelousbigcitynight/
LOCATION:Morgan Manufactoring\, 401 North Morgan Street\, Chicago\, IL
CATEGORIES:Fundraiser
ATTACH;FMTTYPE=image/jpeg:https://ptmhc.org/wp-content/uploads/2022/12/Aspire-3-11-2023.jpg
END:VEVENT
BEGIN:VEVENT
DTSTART;TZID=America/Chicago:20230210T180000
DTEND;TZID=America/Chicago:20230210T210000
DTSTAMP:20260420T010952
CREATED:20230124T212828Z
LAST-MODIFIED:20230124T214157Z
UID:3377-1676052000-1676062800@ptmhc.org
SUMMARY:Pillars - FebFete
DESCRIPTION:Hosted by; Robin Robinson \n  \nJoin us for an evening of cocktails\, hors-d’oeuvres\, auctions\, updates\, live music\, and more in support of Pillars Community Health. \n 
URL:https://ptmhc.org/event/sample-event-copy-6-copy-2-copy-copy-14/
LOCATION:The Drake Autograph Collection\, 2301 York Road\, Oak Brook\, IL\, 60162\, United States
CATEGORIES:Fundraiser
ATTACH;FMTTYPE=image/jpeg:https://ptmhc.org/wp-content/uploads/2023/01/Pillars-Robin-image.jpg
END:VEVENT
BEGIN:VEVENT
DTSTART;TZID=America/Chicago:20221012T180000
DTEND;TZID=America/Chicago:20221012T220000
DTSTAMP:20260420T010952
CREATED:20220926T160534Z
LAST-MODIFIED:20220926T162810Z
UID:3254-1665597600-1665612000@ptmhc.org
SUMMARY:PROVISO MUNICPAL LEAGUE
DESCRIPTION:PROVISO MUNICPAL LEAGUE\nMAYORS OF THE WEST SUBURBS\nMembers Illinois Municipal League\nCook County – State of Illinois
URL:https://ptmhc.org/event/sample-event-copy-6-copy-2-copy-copy-7/
LOCATION:Alpine Banquet Haus\, 11141 W. Roosevelt Road\, Westcherster\, Illinois\, 60154\, United States
ATTACH;FMTTYPE=image/jpeg:https://ptmhc.org/wp-content/uploads/2020/05/ptmhc_events_featured_800x450.jpg
END:VEVENT
BEGIN:VEVENT
DTSTART;TZID=America/Chicago:20220930T180000
DTEND;TZID=America/Chicago:20220930T235900
DTSTAMP:20260420T010952
CREATED:20220817T142626Z
LAST-MODIFIED:20220817T143747Z
UID:3209-1664560800-1664582340@ptmhc.org
SUMMARY:Interfaith Community Partners - 2022 OKTOBERFEST
DESCRIPTION:Let’s raise a glass to friends\, community\, and Caring! \n20th Annual Fall Benefit September 30th at 6 pm
URL:https://ptmhc.org/event/icppktoberfest2022/
LOCATION:Chateau Orleans\, 8025 S. Cass Avenue\, Darien\, IL\, 60561\, United States
CATEGORIES:Fundraiser
ATTACH;FMTTYPE=image/png:https://ptmhc.org/wp-content/uploads/2022/08/ICP-2022-October-Fest-page-1.png
ORGANIZER;CN="Interfaith Community Partners":MAILTO:interfaithcommunitypartners@gmail.com
END:VEVENT
BEGIN:VEVENT
DTSTART;TZID=America/Chicago:20220909T180000
DTEND;TZID=America/Chicago:20220909T220000
DTSTAMP:20260420T010952
CREATED:20220721T163708Z
LAST-MODIFIED:20220725T150916Z
UID:3191-1662746400-1662760800@ptmhc.org
SUMMARY:Aging Care Connections - Sports Ball 2022
DESCRIPTION:ACC and Sports Ball Info General Info 2022\nFriday\, September 9th at\nHarry Caray’s Italian Steakhouse at the Westin Hotel Lombard\, IL\n 
URL:https://ptmhc.org/event/sample-event-copy-6-copy-2-copy-copy-2-copy-copy/
LOCATION:Harry Caray’s  Italian Steakhouse at Westin Hotel\, 70 Yorktown Center\, Lombard\, IL\, 60148
CATEGORIES:Fundraiser
ATTACH;FMTTYPE=image/jpeg:https://ptmhc.org/wp-content/uploads/2022/07/ACC-sports-ball-2022-image-1.jpg
ORGANIZER;CN="Aging Care Connections":MAILTO:jwalch@agingcareconnections.org
END:VEVENT
BEGIN:VEVENT
DTSTART;TZID=America/Chicago:20220623T180000
DTEND;TZID=America/Chicago:20220623T220000
DTSTAMP:20260420T010952
CREATED:20220516T141252Z
LAST-MODIFIED:20220516T143858Z
UID:3128-1656007200-1656021600@ptmhc.org
SUMMARY:The Big Event
DESCRIPTION:Roll the dice and take a chance as we are transported back to old Las Vegas for UCP Seguin’s Big Event.\nYou won’t want to miss our premier fundraising event of the year on Thursday\, June 23rd at Signature Events in Woodridge.\n\nGET YOUR TICKETS NOW \n\n  \nEvent Schedule\n\n\n\n\nDoors Open\n6:00 pm\n\n\nProgram Begins\n6:30 pm\n\n\nGaming Tables Open\n7:15 pm\n\n\nSilent Auction Closes\n9:30 pm
URL:https://ptmhc.org/event/the-big-event/
LOCATION:Signature Events\, 6440 Double Eagle Drive\, Woodridge\, IL\, 60517\, United States
CATEGORIES:Fundraiser
ATTACH;FMTTYPE=image/jpeg:https://ptmhc.org/wp-content/uploads/2022/05/The-Big-Event-UCP-Seguin-6-23-2022.jpg
ORGANIZER;CN="UCP Seguin":MAILTO:info@seguin.org
END:VEVENT
BEGIN:VEVENT
DTSTART;TZID=America/Chicago:20220514T183000
DTEND;TZID=America/Chicago:20220514T230000
DTSTAMP:20260420T010952
CREATED:20220407T164221Z
LAST-MODIFIED:20220407T165256Z
UID:2948-1652553000-1652569200@ptmhc.org
SUMMARY:NAMI - A Celebration of Hope: Salsa\, Samba & Salud (Health)
DESCRIPTION:NAMI Celebration of Hope Fundraiser: Salsa\, Samba & Salud!\n\n\n\n\n\n\n\n\nJoin us May 14th for an evening of dance and celebration as we honor recovery through the arts! Our Celebration of Hope Fundraiser will be a Latin-inspired salsa night featuring a salsa dance team\, gourmet Latin-inspired dishes\, vibrant aesthetics and a lounge-like atmosphere–Don’t forget your dancing shoes! \nSponsorships and ticket purchases help support the vital mental health services that NAMI Metro Suburban provides to thousands each year. Tickets are $85. To purchase tickets\, visit our website www.namimetsub.org or click here: https://one.bidpal.net/namimetrosuburban/welcome \nMay 14\, 2022 6:30pm\, Nineteenth Century Club\, Oak Park\, IL.  Parking will be easily accessible at the parking garage next door\, located at 166 Forest Ave\, Oak Park\, IL 60301
URL:https://ptmhc.org/event/sample-event-copy-6-copy-2-copy-copy-12/
LOCATION:Ninteenth Century Club Oak Park\, 178 Forest Avenue\, Oak Park\, IL\, 60301\, United States
CATEGORIES:Fundraiser
ATTACH;FMTTYPE=image/jpeg:https://ptmhc.org/wp-content/uploads/2022/04/FINAL2021SPONSORSHIPGUIDE_Page_3-scaled.jpg
ORGANIZER;CN="NAMI":MAILTO:info@namimetsub.org
END:VEVENT
BEGIN:VEVENT
DTSTART;TZID=America/Chicago:20220512T190000
DTEND;TZID=America/Chicago:20220512T200000
DTSTAMP:20260420T010952
CREATED:20220428T144401Z
LAST-MODIFIED:20220428T160033Z
UID:2960-1652382000-1652385600@ptmhc.org
SUMMARY:Serie De Conversaciones Comunitarios
DESCRIPTION:Link:   https://www.facebook.com/maywoodnews/  \n 
URL:https://ptmhc.org/event/sample-event-copy-6-copy-2-copy-copy-13/
LOCATION:Village of Maywood\, 40 E Madison St.\, Maywood\, Illinois\, 60153\, United States
CATEGORIES:Virtual Classes
ATTACH;FMTTYPE=image/jpeg:https://ptmhc.org/wp-content/uploads/2022/04/SPAN_FLYER_COVID-1-Treatment-CommunityConversation.jpg
ORGANIZER;CN="Village of Maywood":MAILTO:https://www.maywood-il.org/
END:VEVENT
BEGIN:VEVENT
DTSTART;TZID=America/Chicago:20220505T190000
DTEND;TZID=America/Chicago:20220505T200000
DTSTAMP:20260420T010952
CREATED:20220428T160306Z
LAST-MODIFIED:20220428T170819Z
UID:2976-1651777200-1651780800@ptmhc.org
SUMMARY:Community Conversation Series
DESCRIPTION:Link: https://www.facebook.com/maywoodnews
URL:https://ptmhc.org/event/communityconversationseries/
LOCATION:Village of Maywood\, 40 E Madison St.\, Maywood\, Illinois\, 60153\, United States
CATEGORIES:Virtual Classes
ATTACH;FMTTYPE=image/jpeg:https://ptmhc.org/wp-content/uploads/2022/04/ENG_FLYER_COVID-19-Treatment-CommunityConversation.jpg
ORGANIZER;CN="Village of Maywood":MAILTO:https://www.maywood-il.org/
END:VEVENT
BEGIN:VEVENT
DTSTART;TZID=America/Chicago:20220408T190000
DTEND;TZID=America/Chicago:20220408T220000
DTSTAMP:20260420T010952
CREATED:20220301T154823Z
LAST-MODIFIED:20220301T155657Z
UID:2915-1649444400-1649455200@ptmhc.org
SUMMARY:Pillars Community Health - Century Celebration
DESCRIPTION:Event Details\n\n\n\n\n\n\n\n\n\n\n\nRegistration is now open for our rescheduled 100th Anniversary event. The Century Celebration will take place on Friday\, April 8\, 2022 at Butterfield Country Club. Tickets are $125 and include gourmet hors d’oeuvres and drink pairings\, live music\, raffles\, and a journey through our 100 year history. Use the registration form below to register or make a donation. \nCOVID 19 Protocols\nAs a healthcare organization\, we feel it is our responsibility to protect those who choose to celebrate in-person with us as well as our staff and vendors. Below are a few precautions we will have in place to ensure a safe and enjoyable event for all. \n\nFood and drink will be served in accordance with COVID protocols.\nHand sanitizing stations and masks will be available.\nTables will be set up with appropriate distancing.\nGuests must present proof that they have been fully vaccinated (including booster if eligible) in order to enter the venue (vaccine card or photo of vaccine card.)\nAnyone with a medical or religious exemption must present both proof of exemption as well as a negative COVID test (Antigen test within 24 hours of event or PCR/NAAT test within 72 hours of event). Thank you for your compliance.
URL:https://ptmhc.org/event/sample-event-copy-6-copy-2-copy-copy-9/
LOCATION:Butterfield Country Club\, 2800 Midwest Road\, Oak Brook\, IL\, 60523\, United States
CATEGORIES:Fundraiser
ATTACH;FMTTYPE=image/jpeg:https://ptmhc.org/wp-content/uploads/2022/03/Pillars-100-years-celebration-4-8-2022.jpg
END:VEVENT
BEGIN:VEVENT
DTSTART;TZID=America/Chicago:20220408T180000
DTEND;TZID=America/Chicago:20220408T210000
DTSTAMP:20260420T010952
CREATED:20220310T204216Z
LAST-MODIFIED:20220310T205655Z
UID:2922-1649440800-1649451600@ptmhc.org
SUMMARY:Community Support Services - Circles of Support Celebration 2022
DESCRIPTION:Join us for an evening to benefit Community Support Services (CSS) For Individuals with intellectual/developmental disabilities. \nCSS Circles of Support 2022 \nContact: Michelle Jimenez 708.688.2180 or via e-mail: mjimenez@CSSservices.org
URL:https://ptmhc.org/event/sample-event-copy-6-copy-2-copy-copy-10/
LOCATION:The Hyatt Lodge\, 2815 Jorie Blvd\, Oak Brook\, IL\, 60523
CATEGORIES:CSS Events,Fundraiser
ATTACH;FMTTYPE=image/jpeg:https://ptmhc.org/wp-content/uploads/2022/03/2022-CSS-Celebration.jpg
END:VEVENT
BEGIN:VEVENT
DTSTART;TZID=America/Chicago:20220312T180000
DTEND;TZID=America/Chicago:20220312T210000
DTSTAMP:20260420T010952
CREATED:20211119T164615Z
LAST-MODIFIED:20211119T165435Z
UID:2708-1647108000-1647118800@ptmhc.org
SUMMARY:Aspire - Aim for the Stars 2022 Big City Night
DESCRIPTION:Big City Night 2022\n\nMarch 12\, 2022 @ 6:00 pm – 9:00 pm\n\n\nThe sky’s the limit! \nAspire invites you to think big\, look up\, and let the stars lead the way for our 24th annual Big City Night gala. Come celebrate with us on Saturday\, March 12 as we aim for the stars and raise crucial funds for individuals with disabilities that Aspire supports each year. Ponder the power of hope\, possibility\, and community at this out-of-this-world extravaganza!
URL:https://ptmhc.org/event/sample-event-copy-6-copy-2-copy-copy-4/
LOCATION:IL
CATEGORIES:Fundraiser
ATTACH;FMTTYPE=image/jpeg:https://ptmhc.org/wp-content/uploads/2021/11/Aspire-3-12-2022-page-1.jpg
END:VEVENT
BEGIN:VEVENT
DTSTART;TZID=America/Chicago:20220305T080000
DTEND;TZID=America/Chicago:20220305T120000
DTSTAMP:20260420T010952
CREATED:20220207T175735Z
LAST-MODIFIED:20220207T180903Z
UID:2854-1646467200-1646481600@ptmhc.org
SUMMARY:FREE Women's Heart Disease Screening Event
DESCRIPTION:2022 Womens Heart Disease Screening Event \nLoyola Medicine’s Women’s Heart Program will host a FREE Women’s Heart Disease Screening Event on Saturday\, March 5. \nThe event will include: \n\nAbdominal Aortic Aneurysm (AAA) screening\nCardiovascular disease screening\nCholesterol and blood pressure checks\nInformation on healthy heart nutrition\n\nFREE Women’s Heart Disease Screening Event  Saturday\, March 5th\,    From 8 am -12 pm \nLoyola University Medical Center       \nCenter for Heart and Vascular Medicine \n2160 S. First Ave.\, Maywood\,IL 60153 \nTo register\, call toll free  855-703-0283*                                 Advanced registration required
URL:https://ptmhc.org/event/sample-event-copy-6-copy-2-copy-copy-8/
LOCATION:IL
ATTACH;FMTTYPE=image/jpeg:https://ptmhc.org/wp-content/uploads/2022/02/Capture.jpg
END:VEVENT
END:VCALENDAR